BEGIN:VCALENDAR
VERSION:2.0
PRODID:icalendar-ruby
CALSCALE:GREGORIAN
METHOD:PUBLISH
BEGIN:VEVENT
DTSTAMP:20210301T051827Z
UID:https://www.oneagencybathurst.com.au/property?property_id=692885
DTSTART:20210313T103000
DTEND:20210313T110000
CLASS:PUBLIC
CREATED:20210208T142210
DESCRIPTION: 
LAST-MODIFIED:20210301T102957
LOCATION:168 Rocket Street\, BATHURST NSW 2795\, Australia
SUMMARY:168 Rocket Street\,  Auction
URL:https://www.oneagencybathurst.com.au/property?property_id=692885
END:VEVENT
END:VCALENDAR
