BEGIN:VCALENDAR
VERSION:2.0
PRODID:icalendar-ruby
CALSCALE:GREGORIAN
METHOD:PUBLISH
BEGIN:VEVENT
DTSTAMP:20210301T054311Z
UID:https://www.oneagencybathurst.com.au/property?property_id=605060
DTSTART:20200912T103000
DTEND:20200912T110000
CLASS:PUBLIC
CREATED:20200806T091304
DESCRIPTION: 
LAST-MODIFIED:20201116T111537
LOCATION:255  Howick Street\, BATHURST NSW 2795\, Australia
SUMMARY:255  Howick Street\,  Auction
URL:https://www.oneagencybathurst.com.au/property?property_id=605060
END:VEVENT
END:VCALENDAR
