BEGIN:VCALENDAR
VERSION:2.0
PRODID:icalendar-ruby
CALSCALE:GREGORIAN
METHOD:PUBLISH
BEGIN:VEVENT
DTSTAMP:20210301T054523Z
UID:https://www.oneagencybathurst.com.au/property?property_id=603082
DTSTART:20200912T113000
DTEND:20200912T120000
CLASS:PUBLIC
CREATED:20200728T154933
DESCRIPTION: 
LAST-MODIFIED:20201112T121540
LOCATION:191 Lambert Street\, BATHURST NSW 2795\, Australia
SUMMARY:191 Lambert Street\,  Auction
URL:https://www.oneagencybathurst.com.au/property?property_id=603082
END:VEVENT
END:VCALENDAR
