BEGIN:VCALENDAR
VERSION:2.0
PRODID:icalendar-ruby
CALSCALE:GREGORIAN
METHOD:PUBLISH
BEGIN:VEVENT
DTSTAMP:20210301T054548Z
UID:https://www.oneagencybathurst.com.au/property?property_id=598565
DTSTART:20200829T133000
DTEND:20200829T140000
CLASS:PUBLIC
CREATED:20200721T155927
DESCRIPTION: 
LAST-MODIFIED:20201119T132313
LOCATION:21 Nile Street\, RAGLAN NSW 2795\, Australia
SUMMARY:21 Nile Street\,  Auction
URL:https://www.oneagencybathurst.com.au/property?property_id=598565
END:VEVENT
END:VCALENDAR
