BEGIN:VCALENDAR
VERSION:2.0
PRODID:icalendar-ruby
CALSCALE:GREGORIAN
METHOD:PUBLISH
BEGIN:VEVENT
DTSTAMP:20210301T054727Z
UID:https://www.oneagencybathurst.com.au/property?property_id=564107
DTSTART:20200704T133000
DTEND:20200704T140000
CLASS:PUBLIC
CREATED:20200515T153044
DESCRIPTION: 
LAST-MODIFIED:20201016T113522
LOCATION:45 Windemere Road\, ROBIN HILL NSW 2795\, Australia
SUMMARY:45 Windemere Road\,  Auction
URL:https://www.oneagencybathurst.com.au/property?property_id=564107
END:VEVENT
END:VCALENDAR
