BEGIN:VCALENDAR
VERSION:2.0
PRODID:icalendar-ruby
CALSCALE:GREGORIAN
METHOD:PUBLISH
BEGIN:VEVENT
DTSTAMP:20210301T054827Z
UID:https://www.oneagencybathurst.com.au/property?property_id=535942
DTSTART:20200327T180000
DTEND:20200327T183000
CLASS:PUBLIC
CREATED:20200309T142824
DESCRIPTION: 
LAST-MODIFIED:20200501T161104
LOCATION:7 Strathmore Drive\, FOREST GROVE NSW 2795\, Australia
SUMMARY:7 Strathmore Drive\,  Auction
URL:https://www.oneagencybathurst.com.au/property?property_id=535942
END:VEVENT
END:VCALENDAR
