BEGIN:VCALENDAR
VERSION:2.0
PRODID:icalendar-ruby
CALSCALE:GREGORIAN
METHOD:PUBLISH
BEGIN:VEVENT
DTSTAMP:20210301T054632Z
UID:https://www.oneagencybathurst.com.au/property?property_id=531739
DTSTART:20200328T110000
DTEND:20200328T113000
CLASS:PUBLIC
CREATED:20200221T110015
DESCRIPTION: 
LAST-MODIFIED:20200930T163311
LOCATION:240 Russell Street\, BATHURST NSW 2795\, Australia
SUMMARY:240 Russell Street\,  Auction
URL:https://www.oneagencybathurst.com.au/property?property_id=531739
END:VEVENT
END:VCALENDAR
