BEGIN:VCALENDAR
VERSION:2.0
PRODID:icalendar-ruby
CALSCALE:GREGORIAN
METHOD:PUBLISH
BEGIN:VEVENT
DTSTAMP:20210301T054820Z
UID:https://www.oneagencybathurst.com.au/property?property_id=531738
DTSTART:20200328T123000
DTEND:20200328T130000
CLASS:PUBLIC
CREATED:20200221T095815
DESCRIPTION: 
LAST-MODIFIED:20200421T170253
LOCATION:253 Russell Street\, BATHURST NSW 2795\, Australia
SUMMARY:253 Russell Street\,  Auction
URL:https://www.oneagencybathurst.com.au/property?property_id=531738
END:VEVENT
END:VCALENDAR
