BEGIN:VCALENDAR
VERSION:2.0
PRODID:icalendar-ruby
CALSCALE:GREGORIAN
METHOD:PUBLISH
BEGIN:VEVENT
DTSTAMP:20210301T054608Z
UID:https://www.oneagencybathurst.com.au/property?property_id=531736
DTSTART:20200328T090000
DTEND:20200328T093000
CLASS:PUBLIC
CREATED:20200221T095606
DESCRIPTION: 
LAST-MODIFIED:20201111T081246
LOCATION:567 Tarana Road\, BREWONGLE NSW 2795\, Australia
SUMMARY:567 Tarana Road\,  Auction
URL:https://www.oneagencybathurst.com.au/property?property_id=531736
END:VEVENT
END:VCALENDAR
