BEGIN:VCALENDAR
VERSION:2.0
PRODID:icalendar-ruby
CALSCALE:GREGORIAN
METHOD:PUBLISH
BEGIN:VEVENT
DTSTAMP:20210301T054841Z
UID:https://www.oneagencybathurst.com.au/property?property_id=531734
DTSTART:20200328T113000
DTEND:20200328T120000
CLASS:PUBLIC
CREATED:20200221T105320
DESCRIPTION: 
LAST-MODIFIED:20200424T151752
LOCATION:14 Oakes Street\, BATHURST NSW 2795\, Australia
SUMMARY:14 Oakes Street\,  Auction
URL:https://www.oneagencybathurst.com.au/property?property_id=531734
END:VEVENT
END:VCALENDAR
