BEGIN:VCALENDAR
VERSION:2.0
PRODID:icalendar-ruby
CALSCALE:GREGORIAN
METHOD:PUBLISH
BEGIN:VEVENT
DTSTAMP:20210301T054757Z
UID:https://www.oneagencybathurst.com.au/property?property_id=508952
DTSTART:20200208T113000
DTEND:20200208T120000
CLASS:PUBLIC
CREATED:20191216T153713
DESCRIPTION: 
LAST-MODIFIED:20200630T112925
LOCATION:83 Green Street\, WEST BATHURST NSW 2795\, Australia
SUMMARY:83 Green Street\,  Auction
URL:https://www.oneagencybathurst.com.au/property?property_id=508952
END:VEVENT
END:VCALENDAR
