BEGIN:VCALENDAR
VERSION:2.0
PRODID:icalendar-ruby
CALSCALE:GREGORIAN
METHOD:PUBLISH
BEGIN:VEVENT
DTSTAMP:20210301T054747Z
UID:https://www.oneagencybathurst.com.au/property?property_id=408193
DTSTART:20190713T093000
DTEND:20190713T100000
CLASS:PUBLIC
CREATED:20190605T084235
DESCRIPTION: 
LAST-MODIFIED:20200701T054656
LOCATION:87 MITRE STREET\, WEST BATHURST NSW 2795\, Australia
SUMMARY:87 MITRE STREET\,  Auction
URL:https://www.oneagencybathurst.com.au/property?property_id=408193
END:VEVENT
END:VCALENDAR
